BEGIN:VCALENDAR
VERSION:2.0
PRODID:-//Ouderenraad Hoorn - ECPv6.15.17//NONSGML v1.0//EN
CALSCALE:GREGORIAN
METHOD:PUBLISH
X-WR-CALNAME:Ouderenraad Hoorn
X-ORIGINAL-URL:https://ouderenraadhoorn.nl
X-WR-CALDESC:Evenementen voor Ouderenraad Hoorn
REFRESH-INTERVAL;VALUE=DURATION:PT1H
X-Robots-Tag:noindex
X-PUBLISHED-TTL:PT1H
BEGIN:VTIMEZONE
TZID:Europe/Amsterdam
BEGIN:DAYLIGHT
TZOFFSETFROM:+0100
TZOFFSETTO:+0200
TZNAME:CEST
DTSTART:20250330T010000
END:DAYLIGHT
BEGIN:STANDARD
TZOFFSETFROM:+0200
TZOFFSETTO:+0100
TZNAME:CET
DTSTART:20251026T010000
END:STANDARD
BEGIN:DAYLIGHT
TZOFFSETFROM:+0100
TZOFFSETTO:+0200
TZNAME:CEST
DTSTART:20260329T010000
END:DAYLIGHT
BEGIN:STANDARD
TZOFFSETFROM:+0200
TZOFFSETTO:+0100
TZNAME:CET
DTSTART:20261025T010000
END:STANDARD
BEGIN:DAYLIGHT
TZOFFSETFROM:+0100
TZOFFSETTO:+0200
TZNAME:CEST
DTSTART:20270328T010000
END:DAYLIGHT
BEGIN:STANDARD
TZOFFSETFROM:+0200
TZOFFSETTO:+0100
TZNAME:CET
DTSTART:20271031T010000
END:STANDARD
END:VTIMEZONE
BEGIN:VEVENT
DTSTART;TZID=Europe/Amsterdam:20260506T193000
DTEND;TZID=Europe/Amsterdam:20260506T210000
DTSTAMP:20260421T161310
CREATED:20260413T133907Z
LAST-MODIFIED:20260413T133907Z
UID:3644-1778095800-1778101200@ouderenraadhoorn.nl
SUMMARY:Wijkenlopen
DESCRIPTION:Startdatum wijkenlopen. In mei en juni kunt u 8 weken lang hardlopen door Hoorn. Het parcours is 2\,5 km lang en u mag deze maximaal 4x lopen. Elke week is er een andere startlokatie.
URL:https://ouderenraadhoorn.nl/activiteiten/wijkenlopen/
LOCATION:Verschillende lokaties\, Hoorn
ORGANIZER;CN="Gemeente Hoorn":MAILTO:info@regiowestfriesland.nl
END:VEVENT
END:VCALENDAR