BEGIN:VCALENDAR
VERSION:2.0
PRODID:-//Ouderenraad Hoorn - ECPv6.15.17//NONSGML v1.0//EN
CALSCALE:GREGORIAN
METHOD:PUBLISH
X-WR-CALNAME:Ouderenraad Hoorn
X-ORIGINAL-URL:https://ouderenraadhoorn.nl
X-WR-CALDESC:Evenementen voor Ouderenraad Hoorn
REFRESH-INTERVAL;VALUE=DURATION:PT1H
X-Robots-Tag:noindex
X-PUBLISHED-TTL:PT1H
BEGIN:VTIMEZONE
TZID:Europe/Amsterdam
BEGIN:DAYLIGHT
TZOFFSETFROM:+0100
TZOFFSETTO:+0200
TZNAME:CEST
DTSTART:20250330T010000
END:DAYLIGHT
BEGIN:STANDARD
TZOFFSETFROM:+0200
TZOFFSETTO:+0100
TZNAME:CET
DTSTART:20251026T010000
END:STANDARD
BEGIN:DAYLIGHT
TZOFFSETFROM:+0100
TZOFFSETTO:+0200
TZNAME:CEST
DTSTART:20260329T010000
END:DAYLIGHT
BEGIN:STANDARD
TZOFFSETFROM:+0200
TZOFFSETTO:+0100
TZNAME:CET
DTSTART:20261025T010000
END:STANDARD
BEGIN:DAYLIGHT
TZOFFSETFROM:+0100
TZOFFSETTO:+0200
TZNAME:CEST
DTSTART:20270328T010000
END:DAYLIGHT
BEGIN:STANDARD
TZOFFSETFROM:+0200
TZOFFSETTO:+0100
TZNAME:CET
DTSTART:20271031T010000
END:STANDARD
END:VTIMEZONE
BEGIN:VEVENT
DTSTART;TZID=Europe/Amsterdam:20260430T100000
DTEND;TZID=Europe/Amsterdam:20260430T170000
DTSTAMP:20260421T161419
CREATED:20260413T133317Z
LAST-MODIFIED:20260413T133457Z
UID:3639-1777543200-1777568400@ouderenraadhoorn.nl
SUMMARY:Klaverjasmarathon
DESCRIPTION:Lekker een dagje klaverjassen. Er worden meerdere rondes gespeeld\, verdeeld over de ochtend en de middag. U krijft koffie/thee\, een drankje en een heerlijke lunch aangeboden. Aanmelden vóór 20 april door betaling van entrre op bank rek. nr. NL58RABO030770261 t.n.v. KBO Blokker. Leden betalen € 20\,-\, niet-leden € 25\,00
URL:https://ouderenraadhoorn.nl/activiteiten/klaverjasmarathon/
LOCATION:Het Gouden Hoofd\, Blokker
ORGANIZER;CN="Seniorenvereniging Blokker":MAILTO:secretaris.kboblokker@gmail.com
END:VEVENT
END:VCALENDAR