BEGIN:VCALENDAR
VERSION:2.0
PRODID:-//Ouderenraad Hoorn - ECPv6.15.17//NONSGML v1.0//EN
CALSCALE:GREGORIAN
METHOD:PUBLISH
X-WR-CALNAME:Ouderenraad Hoorn
X-ORIGINAL-URL:https://ouderenraadhoorn.nl
X-WR-CALDESC:Evenementen voor Ouderenraad Hoorn
REFRESH-INTERVAL;VALUE=DURATION:PT1H
X-Robots-Tag:noindex
X-PUBLISHED-TTL:PT1H
BEGIN:VTIMEZONE
TZID:Europe/Amsterdam
BEGIN:DAYLIGHT
TZOFFSETFROM:+0100
TZOFFSETTO:+0200
TZNAME:CEST
DTSTART:20250330T010000
END:DAYLIGHT
BEGIN:STANDARD
TZOFFSETFROM:+0200
TZOFFSETTO:+0100
TZNAME:CET
DTSTART:20251026T010000
END:STANDARD
BEGIN:DAYLIGHT
TZOFFSETFROM:+0100
TZOFFSETTO:+0200
TZNAME:CEST
DTSTART:20260329T010000
END:DAYLIGHT
BEGIN:STANDARD
TZOFFSETFROM:+0200
TZOFFSETTO:+0100
TZNAME:CET
DTSTART:20261025T010000
END:STANDARD
BEGIN:DAYLIGHT
TZOFFSETFROM:+0100
TZOFFSETTO:+0200
TZNAME:CEST
DTSTART:20270328T010000
END:DAYLIGHT
BEGIN:STANDARD
TZOFFSETFROM:+0200
TZOFFSETTO:+0100
TZNAME:CET
DTSTART:20271031T010000
END:STANDARD
END:VTIMEZONE
BEGIN:VEVENT
DTSTART;TZID=Europe/Amsterdam:20260603T103000
DTEND;TZID=Europe/Amsterdam:20260603T120000
DTSTAMP:20260421T161344
CREATED:20260413T130348Z
LAST-MODIFIED:20260413T130348Z
UID:3636-1780482600-1780488000@ouderenraadhoorn.nl
SUMMARY:Fietstocht
DESCRIPTION:Gezellig samen fietsen door ons mooie West-Friesland! We starten vanaf De Witte Valk.
URL:https://ouderenraadhoorn.nl/activiteiten/fietstocht-2/
LOCATION:De Witte Valk\, Zwaag
END:VEVENT
END:VCALENDAR