BEGIN:VCALENDAR
VERSION:2.0
PRODID:-//Ouderenraad Hoorn - ECPv6.15.17//NONSGML v1.0//EN
CALSCALE:GREGORIAN
METHOD:PUBLISH
X-WR-CALNAME:Ouderenraad Hoorn
X-ORIGINAL-URL:https://ouderenraadhoorn.nl
X-WR-CALDESC:Evenementen voor Ouderenraad Hoorn
REFRESH-INTERVAL;VALUE=DURATION:PT1H
X-Robots-Tag:noindex
X-PUBLISHED-TTL:PT1H
BEGIN:VTIMEZONE
TZID:Europe/Amsterdam
BEGIN:DAYLIGHT
TZOFFSETFROM:+0100
TZOFFSETTO:+0200
TZNAME:CEST
DTSTART:20250330T010000
END:DAYLIGHT
BEGIN:STANDARD
TZOFFSETFROM:+0200
TZOFFSETTO:+0100
TZNAME:CET
DTSTART:20251026T010000
END:STANDARD
BEGIN:DAYLIGHT
TZOFFSETFROM:+0100
TZOFFSETTO:+0200
TZNAME:CEST
DTSTART:20260329T010000
END:DAYLIGHT
BEGIN:STANDARD
TZOFFSETFROM:+0200
TZOFFSETTO:+0100
TZNAME:CET
DTSTART:20261025T010000
END:STANDARD
BEGIN:DAYLIGHT
TZOFFSETFROM:+0100
TZOFFSETTO:+0200
TZNAME:CEST
DTSTART:20270328T010000
END:DAYLIGHT
BEGIN:STANDARD
TZOFFSETFROM:+0200
TZOFFSETTO:+0100
TZNAME:CET
DTSTART:20271031T010000
END:STANDARD
END:VTIMEZONE
BEGIN:VEVENT
DTSTART;TZID=Europe/Amsterdam:20260508T093000
DTEND;TZID=Europe/Amsterdam:20260508T123000
DTSTAMP:20260421T161243
CREATED:20260413T134145Z
LAST-MODIFIED:20260413T134145Z
UID:3647-1778232600-1778243400@ouderenraadhoorn.nl
SUMMARY:Doortrappen
DESCRIPTION:Bij Doortrappen fietst u 8 weken lang in groepsverband en onder professionele begeleiding prachtige routes door west-Friesland. Veilig fietsen is bij elke tocht een belangrijk onderdeel. Elke week fietsen we vanaf een nieuwe startlocatie en staat er een kopje koffie of thee klaar.
URL:https://ouderenraadhoorn.nl/activiteiten/doortrappen/
LOCATION:Verschillende lokaties\, Hoorn
ORGANIZER;CN="Gemeente Hoorn":MAILTO:info@regiowestfriesland.nl
END:VEVENT
END:VCALENDAR